BEGIN:VCALENDAR
VERSION:2.0
PRODID:-//Greener Orkney - ECPv6.15.20//NONSGML v1.0//EN
CALSCALE:GREGORIAN
METHOD:PUBLISH
X-WR-CALNAME:Greener Orkney
X-ORIGINAL-URL:https://greenerorkney.org.uk
X-WR-CALDESC:Events for Greener Orkney
REFRESH-INTERVAL;VALUE=DURATION:PT1H
X-Robots-Tag:noindex
X-PUBLISHED-TTL:PT1H
BEGIN:VTIMEZONE
TZID:UTC
BEGIN:STANDARD
TZOFFSETFROM:+0000
TZOFFSETTO:+0000
TZNAME:UTC
DTSTART:20240101T000000
END:STANDARD
END:VTIMEZONE
BEGIN:VEVENT
DTSTART;TZID=UTC:20250302T140000
DTEND;TZID=UTC:20250302T150000
DTSTAMP:20260421T095956
CREATED:20250218T170609Z
LAST-MODIFIED:20250218T170819Z
UID:1964-1740924000-1740927600@greenerorkney.org.uk
SUMMARY:Beach clean - Scapa Beach
DESCRIPTION:Meet in car park
URL:https://greenerorkney.org.uk/event/beach-clean-scapa-beach-3/
LOCATION:Scapa beach\, KW15 1sd\, United Kingdom
CATEGORIES:Beach Cleans
END:VEVENT
BEGIN:VEVENT
DTSTART;TZID=UTC:20250309T140000
DTEND;TZID=UTC:20250309T150000
DTSTAMP:20260421T095956
CREATED:20250218T170743Z
LAST-MODIFIED:20250218T170743Z
UID:1967-1741528800-1741532400@greenerorkney.org.uk
SUMMARY:Beach clean - Birsay
DESCRIPTION:Meet in car park
URL:https://greenerorkney.org.uk/event/beach-clean-birsay-2/
LOCATION:Birsay\, Birsay\, KW17 2LX\, United Kingdom
CATEGORIES:Beach Cleans
END:VEVENT
BEGIN:VEVENT
DTSTART;TZID=UTC:20250316T140000
DTEND;TZID=UTC:20250316T150000
DTSTAMP:20260421T095956
CREATED:20250218T170942Z
LAST-MODIFIED:20250218T170942Z
UID:1970-1742133600-1742137200@greenerorkney.org.uk
SUMMARY:Beach Clean - Scapa Beach
DESCRIPTION:Meet in car park
URL:https://greenerorkney.org.uk/event/beach-clean-scapa-beach-4/
LOCATION:Scapa beach\, KW15 1sd\, United Kingdom
CATEGORIES:Beach Cleans
END:VEVENT
END:VCALENDAR