BEGIN:VCALENDAR
VERSION:2.0
PRODID:-//Greener Orkney - ECPv6.15.20//NONSGML v1.0//EN
CALSCALE:GREGORIAN
METHOD:PUBLISH
X-ORIGINAL-URL:https://greenerorkney.org.uk
X-WR-CALDESC:Events for Greener Orkney
REFRESH-INTERVAL;VALUE=DURATION:PT1H
X-Robots-Tag:noindex
X-PUBLISHED-TTL:PT1H
BEGIN:VTIMEZONE
TZID:UTC
BEGIN:STANDARD
TZOFFSETFROM:+0000
TZOFFSETTO:+0000
TZNAME:UTC
DTSTART:20230101T000000
END:STANDARD
END:VTIMEZONE
BEGIN:VEVENT
DTSTART;TZID=UTC:20241103T140000
DTEND;TZID=UTC:20241103T150000
DTSTAMP:20260421T162255
CREATED:20241020T090937Z
LAST-MODIFIED:20241020T090937Z
UID:1837-1730642400-1730646000@greenerorkney.org.uk
SUMMARY:Beach clean - Fourth Barrier
DESCRIPTION:Meet in car park
URL:https://greenerorkney.org.uk/event/beach-clean-fourth-barrier/
LOCATION:Fourth barrier\, Fourth barrier\, Burray\, KW17 2SS\, United Kingdom
CATEGORIES:Beach Cleans
END:VEVENT
BEGIN:VEVENT
DTSTART;TZID=UTC:20241109T163000
DTEND;TZID=UTC:20241109T180000
DTSTAMP:20260421T162255
CREATED:20241020T091410Z
LAST-MODIFIED:20241020T093416Z
UID:1842-1731169800-1731175200@greenerorkney.org.uk
SUMMARY:Greener Orkney AGM
DESCRIPTION:All welcome – free tea and cakes.
URL:https://greenerorkney.org.uk/event/beach-clean-scapa-beach/
LOCATION:Stromness Community Centre\, Church Road\, Stromness\, KW16 3BA\, United Kingdom
CATEGORIES:Meeting
ATTACH;FMTTYPE=image/png:https://greenerorkney.org.uk/wp-content/uploads/2024/10/AGM-Notice-2024.png
END:VEVENT
END:VCALENDAR