BEGIN:VCALENDAR
VERSION:2.0
PRODID:-//Greener Orkney - ECPv6.15.20//NONSGML v1.0//EN
CALSCALE:GREGORIAN
METHOD:PUBLISH
X-ORIGINAL-URL:https://greenerorkney.org.uk
X-WR-CALDESC:Events for Greener Orkney
REFRESH-INTERVAL;VALUE=DURATION:PT1H
X-Robots-Tag:noindex
X-PUBLISHED-TTL:PT1H
BEGIN:VTIMEZONE
TZID:UTC
BEGIN:STANDARD
TZOFFSETFROM:+0000
TZOFFSETTO:+0000
TZNAME:UTC
DTSTART:20230101T000000
END:STANDARD
END:VTIMEZONE
BEGIN:VEVENT
DTSTART;TZID=UTC:20241026T140000
DTEND;TZID=UTC:20241026T150000
DTSTAMP:20260421T175925
CREATED:20241020T090503Z
LAST-MODIFIED:20241020T090503Z
UID:1834-1729951200-1729954800@greenerorkney.org.uk
SUMMARY:Beach clean - Birsay
DESCRIPTION:Meet at car park near Earl’s Palace
URL:https://greenerorkney.org.uk/event/beach-clean-birsay/
LOCATION:Birsay\, Birsay\, KW17 2LX\, United Kingdom
CATEGORIES:Beach Cleans
END:VEVENT
END:VCALENDAR