BEGIN:VCALENDAR
VERSION:2.0
PRODID:-//Greener Orkney - ECPv6.15.20//NONSGML v1.0//EN
CALSCALE:GREGORIAN
METHOD:PUBLISH
X-WR-CALNAME:Greener Orkney
X-ORIGINAL-URL:https://greenerorkney.org.uk
X-WR-CALDESC:Events for Greener Orkney
REFRESH-INTERVAL;VALUE=DURATION:PT1H
X-Robots-Tag:noindex
X-PUBLISHED-TTL:PT1H
BEGIN:VTIMEZONE
TZID:UTC
BEGIN:STANDARD
TZOFFSETFROM:+0000
TZOFFSETTO:+0000
TZNAME:UTC
DTSTART:20230101T000000
END:STANDARD
END:VTIMEZONE
BEGIN:VEVENT
DTSTART;TZID=UTC:20240910T100000
DTEND;TZID=UTC:20240918T200000
DTSTAMP:20260421T194147
CREATED:20240910T115401Z
LAST-MODIFIED:20240918T073453Z
UID:1753-1725962400-1726689600@greenerorkney.org.uk
SUMMARY:Designer Sample Sale - ends 18 September
DESCRIPTION:FINAL REDUCTIONS – OPEN TONIGHT\, WEDNESDAY 6-8PM \nPlease come and visit us at Plainstones at 113 Victoria Street\, Stromness where we are having a sample and stock sale of designer clothes. All funds received will be going to support Greener Orkney and the local Stromness charity ‘The Garden Route Children’s Trust’ which buys a special nutritious porridge  for children in Africa. The sale will be on until Thursday 19th September. \nThe shop is open 10am to 4pm with a break at noon for 1 hour lunch.
URL:https://greenerorkney.org.uk/event/designer-sample-sale/
LOCATION:Plainstones\, 113 Victoria Street\, KW16 3BU\, 113 Victoria Street\, Stromness\, Orkney\, KW16 3BU\, United Kingdom
CATEGORIES:Fund raising
ATTACH;FMTTYPE=image/jpeg:https://greenerorkney.org.uk/wp-content/uploads/2024/09/02-Sample-sale-poster-final.jpg
END:VEVENT
BEGIN:VEVENT
DTSTART;TZID=UTC:20240921T100000
DTEND;TZID=UTC:20240921T160000
DTSTAMP:20260421T194147
CREATED:20240628T201610Z
LAST-MODIFIED:20240628T201610Z
UID:1728-1726912800-1726934400@greenerorkney.org.uk
SUMMARY:Beach clean - Westray MLWG - Taft's Survey
DESCRIPTION:Meet at Rapness Cemetery \nWestray MLWG – Taft’s autumn survey | Marine Conservation Society (mcsuk.org)
URL:https://greenerorkney.org.uk/event/beach-clean-westray-mlwg-tafts-survey/
LOCATION:Rapness Cemetery\, United Kingdom
CATEGORIES:Beach Cleans
END:VEVENT
BEGIN:VEVENT
DTSTART;TZID=UTC:20240921T150000
DTEND;TZID=UTC:20240921T160000
DTSTAMP:20260421T194147
CREATED:20240617T153759Z
LAST-MODIFIED:20240628T194850Z
UID:1668-1726930800-1726934400@greenerorkney.org.uk
SUMMARY:Beach clean
DESCRIPTION:Meet in car park (please note time slightly later than normal to accommodate tides). \nWill be followed by BBQ which is part of Highlands and Islands Climate Festival.
URL:https://greenerorkney.org.uk/event/beach-clean-40/
LOCATION:Scapa beach\, KW15 1sd\, United Kingdom
CATEGORIES:Beach Cleans
ATTACH;FMTTYPE=image/jpeg:https://greenerorkney.org.uk/wp-content/uploads/2024/04/Beach-rubbish-2-rotated.jpg
END:VEVENT
BEGIN:VEVENT
DTSTART;TZID=UTC:20240921T160000
DTEND;TZID=UTC:20240921T170000
DTSTAMP:20260421T194147
CREATED:20240628T194049Z
LAST-MODIFIED:20240628T194049Z
UID:1719-1726934400-1726938000@greenerorkney.org.uk
SUMMARY:Highlands and Islands Climate Festival - BBQ
DESCRIPTION:Please join us for a BBQ immediately after the beach clean at Scapa. \nRSVP so we can establish accurate numbers.
URL:https://greenerorkney.org.uk/event/highlands-and-islands-climate-festival-bbq/
LOCATION:Scapa beach\, KW15 1sd\, United Kingdom
CATEGORIES:BBQ
ATTACH;FMTTYPE=image/jpeg:https://greenerorkney.org.uk/wp-content/uploads/2024/06/Beach-BBQ-e1719603188128.jpg
END:VEVENT
BEGIN:VEVENT
DTSTART;TZID=UTC:20240922T090000
DTEND;TZID=UTC:20240922T150000
DTSTAMP:20260421T194147
CREATED:20240628T202304Z
LAST-MODIFIED:20240628T202304Z
UID:1733-1726995600-1727017200@greenerorkney.org.uk
SUMMARY:Beach clean - Westray MLWG - Quoygrew north to Heugh
DESCRIPTION:Off road parking at Bigging\, Kelp Green. \nWestray MLWG – Quoygrew north | Marine Conservation Society (mcsuk.org)
URL:https://greenerorkney.org.uk/event/beach-clean-westray-mlwg-quoygrew-north-to-heugh/
LOCATION:Quoygrew north to Heugh\, United Kingdom
CATEGORIES:Beach Cleans
END:VEVENT
BEGIN:VEVENT
DTSTART;TZID=UTC:20240922T150000
DTEND;TZID=UTC:20240922T160000
DTSTAMP:20260421T194147
CREATED:20240617T154434Z
LAST-MODIFIED:20240617T154434Z
UID:1671-1727017200-1727020800@greenerorkney.org.uk
SUMMARY:Beach clean
DESCRIPTION:Meet in car park. \nPlease note time slightly later than normal due to tides.
URL:https://greenerorkney.org.uk/event/beach-clean-41/
LOCATION:Birsay\, Birsay\, KW17 2LX\, United Kingdom
CATEGORIES:Beach Cleans
ATTACH;FMTTYPE=image/jpeg:https://greenerorkney.org.uk/wp-content/uploads/2024/04/PXL_20240220_160914546-scaled-e1713434578575.jpg
END:VEVENT
BEGIN:VEVENT
DTSTART;TZID=UTC:20240928T140000
DTEND;TZID=UTC:20240928T150000
DTSTAMP:20260421T194147
CREATED:20240617T155044Z
LAST-MODIFIED:20240617T155044Z
UID:1678-1727532000-1727535600@greenerorkney.org.uk
SUMMARY:Beach clean
DESCRIPTION:Meet in car park.
URL:https://greenerorkney.org.uk/event/beach-clean-43/
LOCATION:Fourth barrier\, Fourth barrier\, Burray\, KW17 2SS\, United Kingdom
CATEGORIES:Beach Cleans
ATTACH;FMTTYPE=image/jpeg:https://greenerorkney.org.uk/wp-content/uploads/2024/04/Westray-beach-2-rotated.jpg
END:VEVENT
BEGIN:VEVENT
DTSTART;TZID=UTC:20240929T100000
DTEND;TZID=UTC:20240929T160000
DTSTAMP:20260421T194147
CREATED:20240628T202946Z
LAST-MODIFIED:20240628T202946Z
UID:1736-1727604000-1727625600@greenerorkney.org.uk
SUMMARY:Beach clean - Westray MLWG -Aikerness\, autumn clean
DESCRIPTION:Beach point at Skaill Store\, off road parking permission TBC. \nWestray MLWG -Aikerness\, autumn clean | Marine Conservation Society (mcsuk.org)
URL:https://greenerorkney.org.uk/event/beach-clean-westray-mlwg-aikerness-autumn-clean/
LOCATION:Aikerness (Westray)\, United Kingdom
CATEGORIES:Beach Cleans
END:VEVENT
BEGIN:VEVENT
DTSTART;TZID=UTC:20240929T140000
DTEND;TZID=UTC:20240929T150000
DTSTAMP:20260421T194147
CREATED:20240617T155307Z
LAST-MODIFIED:20240617T155540Z
UID:1680-1727618400-1727622000@greenerorkney.org.uk
SUMMARY:Beach clean
DESCRIPTION:Meet in car park
URL:https://greenerorkney.org.uk/event/beach-clean-44/
LOCATION:Warebeth\, Orkney\, KW16 3DH\, United Kingdom
CATEGORIES:Beach Cleans
ATTACH;FMTTYPE=image/jpeg:https://greenerorkney.org.uk/wp-content/uploads/2023/03/IMG20230305143203-scaled.jpg
END:VEVENT
END:VCALENDAR