BEGIN:VCALENDAR
VERSION:2.0
PRODID:-//Greener Orkney - ECPv6.15.20//NONSGML v1.0//EN
CALSCALE:GREGORIAN
METHOD:PUBLISH
X-WR-CALNAME:Greener Orkney
X-ORIGINAL-URL:https://greenerorkney.org.uk
X-WR-CALDESC:Events for Greener Orkney
REFRESH-INTERVAL;VALUE=DURATION:PT1H
X-Robots-Tag:noindex
X-PUBLISHED-TTL:PT1H
BEGIN:VTIMEZONE
TZID:UTC
BEGIN:STANDARD
TZOFFSETFROM:+0000
TZOFFSETTO:+0000
TZNAME:UTC
DTSTART:20230101T000000
END:STANDARD
END:VTIMEZONE
BEGIN:VEVENT
DTSTART;TZID=UTC:20240630T140000
DTEND;TZID=UTC:20240630T150000
DTSTAMP:20260422T003226
CREATED:20240617T154612Z
LAST-MODIFIED:20240617T154718Z
UID:1675-1719756000-1719759600@greenerorkney.org.uk
SUMMARY:Beach clean
DESCRIPTION:Meet in car park.
URL:https://greenerorkney.org.uk/event/beach-clean-42/
LOCATION:Fourth barrier\, Fourth barrier\, Burray\, KW17 2SS\, United Kingdom
CATEGORIES:Beach Cleans
ATTACH;FMTTYPE=image/jpeg:https://greenerorkney.org.uk/wp-content/uploads/2024/05/North-Ronaldsay-Tafts-Beach-pre-clean-rotated.jpg
END:VEVENT
END:VCALENDAR