BEGIN:VCALENDAR
VERSION:2.0
PRODID:-//Greener Orkney - ECPv6.15.20//NONSGML v1.0//EN
CALSCALE:GREGORIAN
METHOD:PUBLISH
X-ORIGINAL-URL:https://greenerorkney.org.uk
X-WR-CALDESC:Events for Greener Orkney
REFRESH-INTERVAL;VALUE=DURATION:PT1H
X-Robots-Tag:noindex
X-PUBLISHED-TTL:PT1H
BEGIN:VTIMEZONE
TZID:UTC
BEGIN:STANDARD
TZOFFSETFROM:+0000
TZOFFSETTO:+0000
TZNAME:UTC
DTSTART:20230101T000000
END:STANDARD
END:VTIMEZONE
BEGIN:VEVENT
DTSTART;TZID=UTC:20240508T140000
DTEND;TZID=UTC:20240508T153000
DTSTAMP:20260424T094019
CREATED:20240504T055958Z
LAST-MODIFIED:20240509T085731Z
UID:1554-1715176800-1715182200@greenerorkney.org.uk
SUMMARY:Stronsay Health Walks and Stronsay Wildlife Recording
DESCRIPTION:Meet at SDT office before heading off to Ayre of Myres beach to walk\, talk\, enjoy and protect nature.
URL:https://greenerorkney.org.uk/event/stronsay-health-walks-and-stronsay-wildlife-recording/
LOCATION:Stronsay Development Trust Office\, Unit 1\, Woods Yard\, Whitehall\, KW17 2AR\, United Kingdom
CATEGORIES:Beach Cleans
ATTACH;FMTTYPE=image/jpeg:https://greenerorkney.org.uk/wp-content/uploads/2024/05/Blue-and-White-Illustrative-Beach-Clean-Up-Campaign-Poster-3.jpg
END:VEVENT
BEGIN:VEVENT
DTSTART;TZID=UTC:20240519T140000
DTEND;TZID=UTC:20240519T160000
DTSTAMP:20260424T094019
CREATED:20240507T105716Z
LAST-MODIFIED:20240507T105716Z
UID:1601-1716127200-1716134400@greenerorkney.org.uk
SUMMARY:Orkney Nature Festival Beach Clean
DESCRIPTION:Meet at car park.
URL:https://greenerorkney.org.uk/event/orkney-nature-festival-beach-clean/
LOCATION:Scapa beach\, KW15 1sd\, United Kingdom
CATEGORIES:Beach Cleans
ATTACH;FMTTYPE=image/jpeg:https://greenerorkney.org.uk/wp-content/uploads/2022/01/Beach-Clean-7.jpg
END:VEVENT
END:VCALENDAR