BEGIN:VCALENDAR
VERSION:2.0
PRODID:-//Greener Orkney - ECPv6.15.20//NONSGML v1.0//EN
CALSCALE:GREGORIAN
METHOD:PUBLISH
X-WR-CALNAME:Greener Orkney
X-ORIGINAL-URL:https://greenerorkney.org.uk
X-WR-CALDESC:Events for Greener Orkney
REFRESH-INTERVAL;VALUE=DURATION:PT1H
X-Robots-Tag:noindex
X-PUBLISHED-TTL:PT1H
BEGIN:VTIMEZONE
TZID:UTC
BEGIN:STANDARD
TZOFFSETFROM:+0000
TZOFFSETTO:+0000
TZNAME:UTC
DTSTART:20250101T000000
END:STANDARD
END:VTIMEZONE
BEGIN:VEVENT
DTSTART;TZID=UTC:20260516T100000
DTEND;TZID=UTC:20260516T123000
DTSTAMP:20260420T231113
CREATED:20260420T085234Z
LAST-MODIFIED:20260420T085234Z
UID:2886-1778925600-1778934600@greenerorkney.org.uk
SUMMARY:Repair Cafe Orkney\, Stromness
DESCRIPTION:Repair Cafe Orkney is at Stromness Community Centre for its monthly pop-up for repairs\, a brew and cakes too! \nThe Repair Cafe’s friendly team of repairers will help you look at broken household items or textiles (check the Repair Cafe Facebook page before the event for any last minute changes about what sort of items can be repaired at the session). Last check-in time for items is 11:45am. \nKeep an eye on Repair Cafe Orkney’s Facebook page for all the latest updates for this event: https://www.facebook.com/RepairCafeOrkney
URL:https://greenerorkney.org.uk/event/repair-cafe-orkney-stromness/
LOCATION:Stromness Community Centre\, Church Road\, Stromness\, KW16 3BA\, United Kingdom
CATEGORIES:Repair Cafes
ATTACH;FMTTYPE=image/jpeg:https://greenerorkney.org.uk/wp-content/uploads/2025/10/RCO-West-Mainland-logo-colour-scaled.jpg
END:VEVENT
BEGIN:VEVENT
DTSTART;TZID=UTC:20260517T150000
DTEND;TZID=UTC:20260517T160000
DTSTAMP:20260420T231113
CREATED:20260405T191022Z
LAST-MODIFIED:20260420T084522Z
UID:2849-1779030000-1779033600@greenerorkney.org.uk
SUMMARY:Beach clean\, Scapa
DESCRIPTION:Please come and join us for this beach clean at Scapa Beach – meet at the car park.
URL:https://greenerorkney.org.uk/event/beach-clean-scapa/
LOCATION:Scapa beach\, KW15 1sd\, United Kingdom
CATEGORIES:Beach Cleans
ATTACH;FMTTYPE=image/jpeg:https://greenerorkney.org.uk/wp-content/uploads/2022/01/Beach-Clean-8.jpg
END:VEVENT
END:VCALENDAR