BEGIN:VCALENDAR
VERSION:2.0
PRODID:-//Greener Orkney - ECPv6.15.20//NONSGML v1.0//EN
CALSCALE:GREGORIAN
METHOD:PUBLISH
X-WR-CALNAME:Greener Orkney
X-ORIGINAL-URL:https://greenerorkney.org.uk
X-WR-CALDESC:Events for Greener Orkney
REFRESH-INTERVAL;VALUE=DURATION:PT1H
X-Robots-Tag:noindex
X-PUBLISHED-TTL:PT1H
BEGIN:VTIMEZONE
TZID:UTC
BEGIN:STANDARD
TZOFFSETFROM:+0000
TZOFFSETTO:+0000
TZNAME:UTC
DTSTART:20210101T000000
END:STANDARD
END:VTIMEZONE
BEGIN:VEVENT
DTSTART;TZID=UTC:20230122T140000
DTEND;TZID=UTC:20230122T150000
DTSTAMP:20260421T014510
CREATED:20221218T202600Z
LAST-MODIFIED:20230119T174813Z
UID:780-1674396000-1674399600@greenerorkney.org.uk
SUMMARY:Beach clean
DESCRIPTION:Car park at the beach
URL:https://greenerorkney.org.uk/event/beach-clean-5/
LOCATION:Birsay\, Birsay\, KW17 2LX\, United Kingdom
CATEGORIES:Beach Cleans
END:VEVENT
BEGIN:VEVENT
DTSTART;VALUE=DATE:20230116
DTEND;VALUE=DATE:20230221
DTSTAMP:20260421T014510
CREATED:20230116T132743Z
LAST-MODIFIED:20230116T170019Z
UID:851-1673827200-1676937599@greenerorkney.org.uk
SUMMARY:S.I.F. Winter 2023 Big Data Collection
DESCRIPTION:The Scottish Islands Federation has received funding to collect data on the composition of marine litter deposited on the islands.  Information collected throughout Scotland during this “data collection month” will be analysed to provide an improved picture of the current situation.  From this\, activities will be undertaken to resolve the challenges of marine litter in our oceans and beaches. \nGreener Orkney can offer equipment and support.  If you are interested in participating in this work\, please contact marinelitter@scottish-islands-federation.co.uk
URL:https://greenerorkney.org.uk/event/s-i-f-winter-2023-big-data-collection/
LOCATION:Various locations\, United Kingdom
CATEGORIES:Beach Cleans
END:VEVENT
BEGIN:VEVENT
DTSTART;TZID=UTC:20230108T140000
DTEND;TZID=UTC:20230108T160000
DTSTAMP:20260421T014510
CREATED:20221218T202328Z
LAST-MODIFIED:20221218T204302Z
UID:773-1673186400-1673193600@greenerorkney.org.uk
SUMMARY:Beach clean
DESCRIPTION:Meeting location tbc
URL:https://greenerorkney.org.uk/event/beach-clean-4/
LOCATION:Newark\, Deerness\, United Kingdom
CATEGORIES:Beach Cleans
END:VEVENT
BEGIN:VEVENT
DTSTART;TZID=UTC:20221203T110000
DTEND;TZID=UTC:20221203T130000
DTSTAMP:20260421T014510
CREATED:20221115T195521Z
LAST-MODIFIED:20221115T195521Z
UID:720-1670065200-1670072400@greenerorkney.org.uk
SUMMARY:Beach clean
DESCRIPTION:Park in the carpark by the toilets and we will clean Burray side.
URL:https://greenerorkney.org.uk/event/beach-clean-3/
LOCATION:Burray beach\, KW17 2SS\, United Kingdom
CATEGORIES:Beach Cleans
END:VEVENT
BEGIN:VEVENT
DTSTART;TZID=UTC:20221120T140000
DTEND;TZID=UTC:20221120T153000
DTSTAMP:20260421T014510
CREATED:20220728T171533Z
LAST-MODIFIED:20221120T072409Z
UID:501-1668952800-1668958200@greenerorkney.org.uk
SUMMARY:Beach clean - cancelled
DESCRIPTION:Due to forecast bad weather\, the beach clean scheduled for 20th November has been cancelled.
URL:https://greenerorkney.org.uk/event/501/
LOCATION:Bay of Skaill\, Orkney\, KW16 3LR\, United Kingdom
CATEGORIES:Beach Cleans
END:VEVENT
BEGIN:VEVENT
DTSTART;TZID=UTC:20221119T170000
DTEND;TZID=UTC:20221119T190000
DTSTAMP:20260421T014510
CREATED:20221030T163105Z
LAST-MODIFIED:20221115T200532Z
UID:662-1668877200-1668884400@greenerorkney.org.uk
SUMMARY:Greener Orkney AGM and Launch of Slow Cooker Project
DESCRIPTION:We are going to hold our AGM on 19th November together with the launch of the Slow Cooker Project. \nMembers and prospective members are welcome to attend.  A buffet will be provided – if you are planning to attend\, please let us know for the purposes of catering.
URL:https://greenerorkney.org.uk/event/greener-orkney-agm/
LOCATION:Stromness Community Centre\, Church Road\, Stromness\, KW16 3BA\, United Kingdom
CATEGORIES:Meeting
END:VEVENT
BEGIN:VEVENT
DTSTART;TZID=UTC:20221023T140000
DTEND;TZID=UTC:20221023T153000
DTSTAMP:20260421T014510
CREATED:20220728T171016Z
LAST-MODIFIED:20220801T202448Z
UID:498-1666533600-1666539000@greenerorkney.org.uk
SUMMARY:Beach clean
DESCRIPTION:Meet in car park
URL:https://greenerorkney.org.uk/event/498/
LOCATION:Scapa beach\, KW15 1sd\, United Kingdom
CATEGORIES:Beach Cleans
END:VEVENT
BEGIN:VEVENT
DTSTART;TZID=UTC:20220925T140000
DTEND;TZID=UTC:20220925T153000
DTSTAMP:20260421T014510
CREATED:20220728T170741Z
LAST-MODIFIED:20220801T201917Z
UID:492-1664114400-1664119800@greenerorkney.org.uk
SUMMARY:Beach clean
DESCRIPTION:Details to follow
URL:https://greenerorkney.org.uk/event/492/
LOCATION:Marwick
CATEGORIES:Beach Cleans
END:VEVENT
BEGIN:VEVENT
DTSTART;TZID=UTC:20220907T190000
DTEND;TZID=UTC:20220907T203000
DTSTAMP:20260421T014510
CREATED:20220905T123127Z
LAST-MODIFIED:20220905T123911Z
UID:625-1662577200-1662582600@greenerorkney.org.uk
SUMMARY:Climate Festival
DESCRIPTION:Katy Firth from the Stromness Museum will present “Starting Conversations about Climate Change”. \nAll welcome – no charge.
URL:https://greenerorkney.org.uk/event/climate-festival-2/
LOCATION:Stromness Town Hall\, 10 Church Road\, Stromness\, KW16 3BA\, United Kingdom
END:VEVENT
BEGIN:VEVENT
DTSTART;TZID=UTC:20220906T190000
DTEND;TZID=UTC:20220906T203000
DTSTAMP:20260421T014510
CREATED:20220905T122817Z
LAST-MODIFIED:20220905T122817Z
UID:620-1662490800-1662496200@greenerorkney.org.uk
SUMMARY:Climate Festival
DESCRIPTION:Katy Firth from the Stromness Museum will present “Starting Conversations about Climate Change”. \nAll welcome – no charge.
URL:https://greenerorkney.org.uk/event/climate-festival/
LOCATION:Orkney Theatre\, KGS\, KW15 1QN\, United Kingdom
END:VEVENT
BEGIN:VEVENT
DTSTART;TZID=UTC:20220828T140000
DTEND;TZID=UTC:20220828T153000
DTSTAMP:20260421T014510
CREATED:20220528T093558Z
LAST-MODIFIED:20220728T162558Z
UID:408-1661695200-1661700600@greenerorkney.org.uk
SUMMARY:Beach clean
DESCRIPTION:Details to follow
URL:https://greenerorkney.org.uk/event/beach-clean-2/
LOCATION:Fourth barrier\, Fourth barrier\, Burray\, KW17 2SS\, United Kingdom
CATEGORIES:Beach Cleans
END:VEVENT
BEGIN:VEVENT
DTSTART;TZID=UTC:20220813T090000
DTEND;TZID=UTC:20220813T160000
DTSTAMP:20260421T014510
CREATED:20220801T200525Z
LAST-MODIFIED:20220801T202217Z
UID:507-1660381200-1660406400@greenerorkney.org.uk
SUMMARY:Meet us at the County Show!
DESCRIPTION:Come and see us at our stand at the County Show.  We’ll have a bottle stall and you can try our own “beach clean”!
URL:https://greenerorkney.org.uk/event/meet-us-at-the-county-show/
LOCATION:Bignold Park\, Kirkwall\, KW151PT\, United Kingdom
CATEGORIES:Public show
END:VEVENT
BEGIN:VEVENT
DTSTART;TZID=UTC:20220724T140000
DTEND;TZID=UTC:20220724T153000
DTSTAMP:20260421T014510
CREATED:20220528T093015Z
LAST-MODIFIED:20220528T093015Z
UID:405-1658671200-1658676600@greenerorkney.org.uk
SUMMARY:Beach clean
DESCRIPTION:Meet at Pier Head
URL:https://greenerorkney.org.uk/event/beach-clean/
LOCATION:Stromness
END:VEVENT
BEGIN:VEVENT
DTSTART;TZID=UTC:20220529T140000
DTEND;TZID=UTC:20220529T153000
DTSTAMP:20260421T014510
CREATED:20220528T092444Z
LAST-MODIFIED:20220528T092722Z
UID:398-1653832800-1653838200@greenerorkney.org.uk
SUMMARY:Litter pick
DESCRIPTION:Meet on steps of Picky Centre.
URL:https://greenerorkney.org.uk/event/litter-pick/
LOCATION:Pickaquoy Centre\, Orkney\, United Kingdom
END:VEVENT
END:VCALENDAR