BEGIN:VCALENDAR
VERSION:2.0
PRODID:-//Greener Orkney - ECPv6.15.20//NONSGML v1.0//EN
CALSCALE:GREGORIAN
METHOD:PUBLISH
X-WR-CALNAME:Greener Orkney
X-ORIGINAL-URL:https://greenerorkney.org.uk
X-WR-CALDESC:Events for Greener Orkney
REFRESH-INTERVAL;VALUE=DURATION:PT1H
X-Robots-Tag:noindex
X-PUBLISHED-TTL:PT1H
BEGIN:VTIMEZONE
TZID:UTC
BEGIN:STANDARD
TZOFFSETFROM:+0000
TZOFFSETTO:+0000
TZNAME:UTC
DTSTART:20230101T000000
END:STANDARD
END:VTIMEZONE
BEGIN:VEVENT
DTSTART;TZID=UTC:20240310T140000
DTEND;TZID=UTC:20240310T150000
DTSTAMP:20260420T122746
CREATED:20240226T111006Z
LAST-MODIFIED:20240226T111006Z
UID:1358-1710079200-1710082800@greenerorkney.org.uk
SUMMARY:Beach clean
DESCRIPTION:Meet in car park.
URL:https://greenerorkney.org.uk/event/beach-clean-34/
LOCATION:Scapa beach\, KW15 1sd\, United Kingdom
CATEGORIES:Beach Cleans
END:VEVENT
END:VCALENDAR