BEGIN:VCALENDAR
VERSION:2.0
PRODID:-//Greener Orkney - ECPv6.15.20//NONSGML v1.0//EN
CALSCALE:GREGORIAN
METHOD:PUBLISH
X-WR-CALNAME:Greener Orkney
X-ORIGINAL-URL:https://greenerorkney.org.uk
X-WR-CALDESC:Events for Greener Orkney
REFRESH-INTERVAL;VALUE=DURATION:PT1H
X-Robots-Tag:noindex
X-PUBLISHED-TTL:PT1H
BEGIN:VTIMEZONE
TZID:UTC
BEGIN:STANDARD
TZOFFSETFROM:+0000
TZOFFSETTO:+0000
TZNAME:UTC
DTSTART:20230101T000000
END:STANDARD
END:VTIMEZONE
BEGIN:VEVENT
DTSTART;TZID=UTC:20240428T020000
DTEND;TZID=UTC:20240428T150000
DTSTAMP:20260424T124519
CREATED:20240420T191900Z
LAST-MODIFIED:20240420T191900Z
UID:1516-1714269600-1714316400@greenerorkney.org.uk
SUMMARY:Beach clean
DESCRIPTION:We are pleased to share the following message from Stromness Museum: \nStromness Museum would like people’s help to Bag The Bruck and clear Warebeth Beach of litter on Sunday 28th April at 2.00pm onwards (Access via the cemetery car park).  Bags and children’s gloves will be available. This event is hosted by Stromness Museum alongside Greener Orkney. \nKind regards\,\nNicky\nCustodian \nStromness Museum\n52 Alfred Street | STROMNESS | KW16 3DH\n01856 850025 \nONHSM: Scottish Charity No SC021455\nwww.stromnessmuseum.org.uk \n 
URL:https://greenerorkney.org.uk/event/beach-clean-39/
LOCATION:Warebeth\, Orkney\, KW16 3DH\, United Kingdom
CATEGORIES:Beach Cleans
ATTACH;FMTTYPE=image/jpeg:https://greenerorkney.org.uk/wp-content/uploads/2023/05/Litter-collecting.jpg
END:VEVENT
END:VCALENDAR