BEGIN:VCALENDAR
VERSION:2.0
PRODID:-//Greener Orkney - ECPv6.15.20//NONSGML v1.0//EN
CALSCALE:GREGORIAN
METHOD:PUBLISH
X-ORIGINAL-URL:https://greenerorkney.org.uk
X-WR-CALDESC:Events for Greener Orkney
REFRESH-INTERVAL;VALUE=DURATION:PT1H
X-Robots-Tag:noindex
X-PUBLISHED-TTL:PT1H
BEGIN:VTIMEZONE
TZID:UTC
BEGIN:STANDARD
TZOFFSETFROM:+0000
TZOFFSETTO:+0000
TZNAME:UTC
DTSTART:20230101T000000
END:STANDARD
END:VTIMEZONE
BEGIN:VEVENT
DTSTART;TZID=UTC:20240407T140000
DTEND;TZID=UTC:20240407T150000
DTSTAMP:20260424T124751
CREATED:20240226T111349Z
LAST-MODIFIED:20240301T141524Z
UID:1360-1712498400-1712502000@greenerorkney.org.uk
SUMMARY:Beach clean
DESCRIPTION:Meet in car park
URL:https://greenerorkney.org.uk/event/beach-clean-35/
LOCATION:Fourth barrier\, Fourth barrier\, Burray\, KW17 2SS\, United Kingdom
CATEGORIES:Beach Cleans
END:VEVENT
END:VCALENDAR